BEGIN:VCALENDAR
VERSION:2.0
PRODID:https://github.com/derhansen/sf_event_mgt
METHOD:PUBLISH
BEGIN:VEVENT
UID:1464-64@www.bundesakademie.de
CLASS: PUBLIC
SUMMARY:Themenmodul Bildungsnetzwerke
DESCRIPTION:Gemeinsam mit den erfahrenen Prozessbegleiter_innen Viola Kelb 
 und Franziska SchÃ¶nfeld, die ihre beruflichen Schwerpunkte auf Bildungsko
 operationen und -netzwerke legen, werden Sie sich diesen und weiteren Frag
 en annÃ¤hern. Wie immer arbeiten wir vielfÃ¤ltig â€“ kÃ¼nstlerisch-praktis
 ch, im kollegialen Austausch, in Arbeitsphasen im Kooperationsteam, in Ein
 zelberatung â€“ lassen aber auch bewusst Leerstellen, um bedarfsorientiert
  mit Ihnen arbeiten zu kÃ¶nnen.Sie kÃ¶nnen sowohl teilnehmen, wenn Sie dez
 idiert vorhaben, Ihr Bildungsnetzwerk im Rahmen der 1- oder 3-jÃ¤hrigen FÃ
 ¶rderung auszubauen und kÃ¶nnen sich dazu individuell beraten lassen.Gleic
 hermaÃŸen adressiert die Fortbildung aber auch diejenigen, die aktuell kei
 nen spezifischen Schwerpunkt auf die Erweiterung ihres kulturellen Bildung
 snetzwerks legen, sich aber offen fÃ¼r den Prozess zeigen und Anregungen g
 erne in ihre Arbeit integrieren wollen.Thematische WÃ¼nsche zu der Fortbil
 dung kÃ¶nnen Sie gerne bei der Anmeldung angeben.Falls Sie aufgrund einer 
 weiten Anreise eine VorabÃ¼bernachtung benÃ¶tigen, geben Sie das bitte ebe
 nfalls bei der Anmeldung an. Alle relevanten Vorabinformationen zur Verans
 taltung und Anreise erhalten Sie per Mail von uns.Bei RÃ¼ckfragen wenden S
 ie sich bitte an jacqueline.streit@bundesakademie.de
LOCATION:GÃ¤stehaus
DTSTART:20230427T080000Z
DTEND:20230428T143000Z
END:VEVENT
END:VCALENDAR
