BEGIN:VCALENDAR
VERSION:2.0
PRODID:https://github.com/derhansen/sf_event_mgt
METHOD:PUBLISH
BEGIN:VEVENT
UID:1789-64@www.bundesakademie.de
CLASS: PUBLIC
SUMMARY:Themenmodul »KuBi und BNE«
DESCRIPTION:Gemeinsam werden wir uns diesen und weiteren Fragen annähern. 
 Wie üblich bei SCHULE:KULTUR! arbeiten wir dabei vielfältig – künstle
 risch-praktisch, im kollegialen Austausch, in Arbeitsphasen im Kooperation
 steam, in Einzelberatung – lassen aber auch bewusst Leerstellen, um beda
 rfsorientiert mit Ihnen arbeiten zu können.Neben dem Kennenlernen von and
 eren Arbeitsansätzen und Praxisbeispielen, werden Sie mit Unterstützung 
 vom S:K! – Team Ihr eigenes Vorhaben (weiter)entwickeln und ausschärfen
 .Ergänzend werfen wir einen Blick auf die Gelingensbedingungen von Kooper
 ationen im Bereich Schule und Kultur. Für Teilnehmende der dreijährigen 
 Förderung wird zusätzlich die Zusammenarbeit und Weiterentwicklung Ihrer
  Kooperation im Rahmen des kulturellen Schulentwicklungsprozesses thematis
 iert.Thematische Wünsche zu der Fortbildung können Sie gerne bei der Anm
 eldung angeben.Falls Sie aufgrund einer weiten Anreise eine Vorabübernach
 tung benötigen, geben Sie das bitte ebenfalls bei der Anmeldung an.Alle r
 elevanten Vorabinformationen zur Veranstaltung und Anreise erhalten Sie pe
 r Mail von uns.Bei Rückfragen wenden Sie sich bitte an jacqueline.streit@
 bundesakademie.de
LOCATION:Gästehaus
DTSTART:20250219T090000Z
DTEND:20250220T153000Z
END:VEVENT
END:VCALENDAR
