BEGIN:VCALENDAR
VERSION:2.0
PRODID:https://github.com/derhansen/sf_event_mgt
METHOD:PUBLISH
BEGIN:VEVENT
UID:1791-64@www.bundesakademie.de
CLASS: PUBLIC
SUMMARY:Themenmodul »KuBi und Diversität«
DESCRIPTION:In der Fortbildung geht es um die grundlegenden Fragen: Was ist
  Diversität und was Diskriminierung? Und was haben diese Begriffe mit mir
  persönlich, mit meiner Arbeit und schlussendlich mit einer demokratische
 n Gesellschaft zu tun? Wie gelingt eine diversitätskritische Kulturelle B
 ildung? Wie ist es möglich, zugängliche Angebote zu schaffen und Barrier
 en abzubauen? Wie lässt sich Diversität in Kooperationsprojekten auch st
 rukturell verankern?Gemeinsam mit der Referentin Anja Schütze, Referentin
  für Freiwilligendienste bei der Bundesvereinigung Kulturelle Kinder- und
  Jugendbildung und freiberufliche Trainer für Diversität und Antidiskrim
 inierung, werden Sie sich diesen und weiteren Fragen annähern. Neben dem 
 Blick auf die eigenen Projektvorhaben, geht es in der Fortbildung um die R
 eflexion der eigenen Positionierung und Haltung. Die Fortbildung ist eine 
 Mischung aus Inputs und praktischen Übungen mit Wort, Bild, Film und Raum
  für Austausch.Wie üblich bei SCHULE:KULTUR! arbeiten wir dabei vielfäl
 tig – künstlerisch-praktisch, im kollegialen Austausch, in Arbeitsphase
 n im Kooperationsteam, in Einzelberatung – lassen aber auch bewusst Leer
 stellen, um bedarfsorientiert mit Ihnen arbeiten zu können.Neben dem Kenn
 enlernen von anderen Arbeitsansätzen und Praxisbeispielen, werden Sie mit
  Unterstützung vom S:K! – Team Ihr eigenes Vorhaben (weiter)entwickeln 
 und ausschärfen.Für Teilnehmende der dreijährigen Förderung bekommt zu
 sätzlich die Zusammenarbeit und Weiterentwicklung Ihrer Kooperation im Ra
 hmen des kulturellen Schulentwicklungsprozesses Raum.Thematische Wünsche 
 zu der Fortbildung können Sie gerne bei der Anmeldung angeben.Bei Bedarf 
 können Sie eigene Fallbeispiele zur Beratung mitbringen.Falls Sie aufgrun
 d einer weiten Anreise eine Vorabübernachtung benötigen, geben Sie das b
 itte ebenfalls bei der Anmeldung an.Alle relevanten Vorabinformationen zur
  Veranstaltung und Anreise erhalten Sie per Mail von uns.Bei Rückfragen w
 enden Sie sich bitte an jacqueline.streit@bundesakademie.de
LOCATION:Gästehaus
DTSTART:20250219T090000Z
DTEND:20250220T153000Z
END:VEVENT
END:VCALENDAR
