BEGIN:VCALENDAR
VERSION:2.0
PRODID:https://github.com/derhansen/sf_event_mgt
METHOD:PUBLISH
BEGIN:VEVENT
UID:1616-64@www.bundesakademie.de
CLASS: PUBLIC
SUMMARY:Themenmodul Â»Vielfalt erlebenÂ«
DESCRIPTION:Gemeinsam mit der erfahrenen Prozessbegleiterin TÃ¼rkÃ¢n Deniz-
 Roggenbuck werden Sie sich diesen und weiteren Fragen annÃ¤hern. Wie Ã¼bli
 ch bei SCHULE:KULTUR! arbeiten wir dabei vielfÃ¤ltig â€“ kÃ¼nstlerisch-pra
 ktisch, im kollegialen Austausch, in Arbeitsphasen im Kooperationsteam, in
  Einzelberatung â€“ lassen aber auch bewusst Leerstellen, um bedarfsorient
 iert mit Ihnen arbeiten zu kÃ¶nnen.Neben dem Kennenlernen von anderen Arbe
 itsansÃ¤tzen und Praxisbeispielen, werden Sie mit UnterstÃ¼tzung vom S:K! 
 â€“ Team Ihr eigenes Vorhaben (weiter)entwickeln und ausschÃ¤rfen.ErgÃ¤nze
 nd werfen wir einen Blick auf die Gelingensbedingungen von Kooperationen i
 m Bereich Schule und Kultur. FÃ¼r Teilnehmende der dreijÃ¤hrigen FÃ¶rderun
 g wird zusÃ¤tzlich die Zusammenarbeit und Weiterentwicklung Ihrer Kooperat
 ion im Rahmen des kulturellen Schulentwicklungsprozesses thematisiert.Them
 atische WÃ¼nsche zu der Fortbildung kÃ¶nnen Sie gerne bei der Anmeldung an
 geben.Falls Sie aufgrund einer weiten Anreise eine VorabÃ¼bernachtung benÃ
 ¶tigen, geben Sie das bitte ebenfalls bei der Anmeldung an. Alle relevante
 n Vorabinformationen zur Veranstaltung und Anreise erhalten Sie per Mail v
 on uns.Bei RÃ¼ckfragen wenden Sie sich bitte an jacqueline.streit@bundesak
 ademie.de
LOCATION:GÃ¤stehaus
DTSTART:20240208T090000Z
DTEND:20240209T153000Z
END:VEVENT
END:VCALENDAR
