BEGIN:VCALENDAR
VERSION:2.0
PRODID:https://github.com/derhansen/sf_event_mgt
METHOD:PUBLISH
BEGIN:VEVENT
UID:564-64@www.bundesakademie.de
CLASS: PUBLIC
SUMMARY:Use the museum!
DESCRIPTION:Wenn wir im Museum digitales Denken mit partizipativen AnsÃ¤tze
 n verbinden wollen, ist es mit der Technik allein nicht getan.In digitalen
  Medien steckt kein Automatismus, der per se Partizipation fÃ¶rdert. Um Me
 nschen auÃŸerhalb von Museen zu erreichen und verschiedene Varianten der T
 eilhabe am Museum tatsÃ¤chlich wirksam werden zu lassen, braucht es mehrer
 e Komponenten: einerseits ein VerstÃ¤ndnis fÃ¼r digitale Werkzeuge und wie
  sie von verschiedenen Communities genutzt werden, andererseits eine Ausei
 nandersetzung mit partizipativer Museumsarbeit und was sie fÃ¼r die Instit
 ution bedeutet.Perspektivwechsel und Reflexion der eigenen Position sind d
 ie Grundlagen fÃ¼r die Entwicklung der Institutionen und neuer Kommunikati
 ons- und Vermittlungsformate.In diesem Seminar werden beide Aspekte anhand
  von folgenden Fragestellungen beleuchtet und zusammengefÃ¼hrt: Was ist fÃ
 ¼r das Museum und seine Besucher_innen sinnvoll, nÃ¼tzlich und anwendbar? 
 Wie kÃ¶nnen Museen eine digitale Kompetenz entwickeln und auf den diversen
  digitalen Plattformen einen Zugang zu User_innen finden? Wie gestaltet si
 ch ein echter und andauernder Dialog mit ihnen? Wie wirken sich digitale u
 nd partizipative Prozesse auf das das institutionelle GefÃ¼ge des Museums 
 und seine Nutzer_innen aus?Diese Themen untersucht das Seminar und gibt An
 tworten basierend auf aktuellen Theorien der Medienwissenschaften, Museolo
 gie und dem Kulturmanagement, unterschiedlichen Fallbeispielen aus Museen 
 und praktischen Ãœbungen mit den Teilnehmer_innen.
LOCATION:GÃ¤stehaus
DTSTART:20211114T150000Z
DTEND:20211116T113000Z
END:VEVENT
END:VCALENDAR
