BEGIN:VCALENDAR
VERSION:2.0
PRODID:https://github.com/derhansen/sf_event_mgt
METHOD:PUBLISH
BEGIN:VEVENT
UID:268-64@www.bundesakademie.de
CLASS: PUBLIC
SUMMARY:Wahlveranstaltung &quot;Kulturelle Arbeit sichtbar machen&quot;
DESCRIPTION:Ein wesentlicher Teil von Kultureller Bildung besteht darin, da
 s künstlerische Arbeiten zu präsentieren und sichtbar zu machen. Mit der
  Veröffentlichung erfahren die Schülerinnen und Schüler Selbstwirksamke
 it, Anerkennung und Wertschätzung für das, was sie erarbeitet haben.In d
 iesem Wahlmodul stellen wir Ihnen einen bunten Strauß an anregenden Beisp
 ielen, z.B. kreativen Veranstaltungsformaten, Ausstellungsmöglichkeiten, 
 Printprodukten oder digitalen Veröffentlichungsmöglichkeiten vor, wie Si
 e schulintern und nach außen das künstlerische Schaffen an Ihrer Schule 
 sichtbar machen können.Zum Tageseinstieg werden wir Ihnen kompakt verschi
 edene konkrete Formate vorstellen, die man relativ unaufwändig in die all
 tägliche Praxis überführen kann.In der zweiten Tageshälfte werden wir 
 dann mit externen Referent_innen zu einzelnen digitalen, theatralen Format
 en und Ausstellungsmöglichkeiten, die auf ihre eigene Weise Öffentlichke
 it schaffen, vertiefend einsteigen.Neben dem Kennenlernen der Ansätze, wi
 e künstlerisches Arbeiten sichtbar gemacht werden kann, werden wir auch d
 ie damit einhergehenden Spannungsfelder beleuchten: z.B. Selbst- oder Frem
 dbestimmung der Schüler_innen in Bezug auf die Auswahl der Formate, Proze
 ss- vs. Produktorientierung oder Zweck und Funktion der Veröffentlichung.
 Veranstaltungsort: Lagerhalle e.V., Rolandsmauer 26, 49074 OsnabrückDie V
 eranstaltung beginnt um 10.00 Uhr und endet um 17.00 Uhr. Das Gesamtprogra
 mm wird in Kürze hier eingestellt.Wenden Sie sich bei Fragen an jacquelin
 e.streit@bundesakademie.deWichtig: Sie erhalten neben der automatischen An
 meldebestätigung keine personalisierte Anmeldebestätigung von uns.
LOCATION:ba unterwegs
DTSTART:20190507T060000Z
DTEND:20190507T160000Z
END:VEVENT
END:VCALENDAR
