BEGIN:VCALENDAR
VERSION:2.0
PRODID:https://github.com/derhansen/sf_event_mgt
METHOD:PUBLISH
BEGIN:VEVENT
UID:357-64@www.bundesakademie.de
CLASS: PUBLIC
SUMMARY:Was wÃ¤re, wenn â€¦
DESCRIPTION:Parallele Welten gehÃ¶ren seit jeher zu den Grundbausteinen pha
 ntastischen Literatur. Ob Science-Fiction, Horror oder Fantasy, erÃ¶ffnen 
 sie Varianten zur tatsÃ¤chlichen Geschichte, deren TragfÃ¤higkeit sich bes
 onders gut mit Kurzgeschichten ausloten lÃ¤sst. Was wÃ¤re zum Beispiel, we
 nn das Attentat auf Kennedy am 22. November 1963 fehlgeschlagen wÃ¤re? Ode
 r wenn die Nazis den Zweiten Weltkrieg gewonnen hÃ¤tten? Wie wÃ¼rde die We
 lt aussehen, in der wir heute leben?Um die literarischen MÃ¶glichkeiten un
 d Grenzen dieser Parallelwelten geht es in unserer Werkstatt. Wir werden s
 ehen, dass solch eine Ã¤hnliche, doch keineswegs identische Welt als Kulis
 se nicht allein ausreicht fÃ¼r eine stimmige Geschichte. Sie muss zudem st
 ilistisch Ã¼berzeugen, gekonnt gebaut sein und die Leserinnen und Leser fe
 sseln. Die Werkstattteilnehmer werden deswegen ihren jeweiligen Â»Weltenba
 uÂ« miteinander diskutieren, sich gegenseitig inspirieren und eine Handlun
 g entwickeln, die den Kern einer solchen Welt schlaglichtartig erfasst.Neb
 en der Arbeit an eigenen Geschichten stehen SchreibÃ¼bungen, kleine VortrÃ
 ¤ge und Gruppenarbeit, darÃ¼ber hinaus Infos und Tipps fÃ¼r VerÃ¶ffentlich
 ungsmÃ¶glichkeiten und die Verlagssuche.Nach dem Anmeldeschluss erhalten d
 ie Teilnehmer eine Schreibaufgabe. Schicken Sie Ihre Textdatei danach bitt
 e an: christina.guenther@bundesakademie.de.
LOCATION:GÃ¤stehaus
DTSTART:20200516T140000Z
DTEND:20200518T103000Z
END:VEVENT
END:VCALENDAR
