BEGIN:VCALENDAR
VERSION:2.0
PRODID:https://github.com/derhansen/sf_event_mgt
METHOD:PUBLISH
BEGIN:VEVENT
UID:1182-64@www.bundesakademie.de
CLASS: PUBLIC
SUMMARY:Werkstatt Fotofilm
DESCRIPTION:***Das Seminar ist bereits ausgebucht - Bei Interesse an einem 
 Zusatz-Termin Anfang 2023 schreiben Sie uns eine Nachricht***Das künstler
 isch-praktische Seminar vermittelt und erprobt das Genre Fotofilm. In dies
 em werden nicht-bewegte Bilder in einen filmischen Zusammenhang gesetzt un
 d Sprache, Ton und Bild kompositorisch miteinander verbunden. In der schei
 nbar reduzierten Form liegt dabei die Chance besonderer inhaltlicher sowie
  ästhetischer Tiefe, die sich in einer großen gestalterischen Vielfalt s
 piegelt. Künstlerische Beispiele (z.B. von Paolo Pellegrin, Peter Lindber
 gh, Ann Sophie Lindström, Mark Thümmler, Chris Maker, Agnes Varda, Alain
  Resnais, Sergej Eisenstein, Arthur Lipsett, Leonore Mau & Hubert Fichte, 
 Hartmut Bitomsky, Sirkka-Liisa Kontinnen, Shelly Silver, Satake Maki, Nagi
 sa Oshima) werden einbezogen und fungieren als Inspiration. Durch die tech
 nisch verhältnismäßig einfache Umsetzung, eignet sich der Fotofilm nich
 t nur für die künstlerische Arbeit, sondern auch für Vermittlungszusamm
 enhänge wie Projekte in Bildungs- und Schulkontexten.Thematisch wird es i
 n den entstehenden Fotofilmen um die Auseinandersetzung mit einem besonder
 en Ort aus persönlicher Sicht gehen. Orte die berühren, mit einem Erlebn
 is oder einer Erinnerung verbunden sind, die inspirieren oder einfach beso
 nders ist. Vom Stadtviertel über eine Wohnung, ein Zimmer, ein Raum in ei
 ner Bibliothek, ein Museum, ein Arbeitsplatz, ein Geschäft, ein Park, ein
  Café oder einem Jahrmarkt ist dabei alles möglich.Das Seminar findet an
  vier Terminen (15.9./22.9./29.9./6.10.2022) jeweils von 17-20.00 statt. I
 n der Zeit zwischen den Terminen, arbeiten die Teilnehmende an ihren indiv
 iduellen Fotofilm-Projekten, die im Seminar rückgesprochen werden. Die hi
 erfür benötigten Grundlagen im Film- und Tonschnitt werden ebenso vermit
 telt wie Beispiele aus der Praxis und mögliche Vermittlungskontexte.Techn
 ische Voraussetzungen zur Teilnahme:Die technischen Voraussetzungen zur Te
 ilnahme sind ein stabiler Internet-Zugang, ein PC oder Notebook mit Tastat
 ur, Mikrofon, Kamera sowie Lautsprechern (oder Kopfhörer). Der Kurs wird 
 über den Anbieter zoom.us angeboten. Zoom läuft browserbasiert bzw. mit 
 einer kleinen Installation, die direkt im Anmeldeprozess ausgeführt wird.
  Den dafür notwendigen Link und weitere Informationen dazu erhalten Sie m
 it der Einladung zum Kurs von uns.Für die Gestaltung der Fotofilme benöt
 igen Sie einen Rechner (ein Tablet ist nicht ausreichend) – Mac oder PC 
 – mit dem Programm Audacity und einem der Freeware Videoschnittprogramme
  Imovie (Mac), OpenShot oder ShotCut. Es kann auch mit anderen Programmen 
 gearbeitet werden, für die jedoch kein individueller Support garantiert w
 ird. Die Fotos können mit einer Digitalkamera oder einem Smartphone aufge
 nommen werden. Man sollte mit dem Smartphone Tonaufnahmen (Sprachmemos) ma
 chen (Standartanwendung) und diese Dateien auf den eigenen Rechner transfe
 rieren können. Wer hat, kann auch ein digitales Aufnahmegerät verwenden.
  Die Bild- und Tonqualität eines durchschnittlichen Smartphones ist jedoc
 h grundsätzlich ausreichend.
LOCATION:Online-Workshop
DTSTART:20220915T150000Z
DTEND:20221006T180000Z
END:VEVENT
END:VCALENDAR
