BEGIN:VCALENDAR
VERSION:2.0
PRODID:https://github.com/derhansen/sf_event_mgt
METHOD:PUBLISH
BEGIN:VEVENT
UID:1745-64@www.bundesakademie.de
CLASS: PUBLIC
SUMMARY:Werkstatt Fotofilm
DESCRIPTION:***Das Seminar ist bereits ausgebucht. Wenn Sie auf die Warteli
 ste aufgenommen oder informiert werden möchten, wenn ein weiteres Seminar
  zu dem Thema geplant ist, schreiben Sie uns eine Mail an sarah.kuschel@bu
 ndesakademie.de***Das künstlerisch-praktische Seminar vermittelt und erpr
 obt das Genre Fotofilm. In diesem werden nicht-bewegte Bilder in einen fil
 mischen Zusammenhang gesetzt und Sprache, Ton und Bild kompositorisch mite
 inander verbunden. In der scheinbar reduzierten Form liegt dabei die Chanc
 e besonderer inhaltlicher sowie ästhetischer Tiefe, die sich in einer gro
 ßen gestalterischen Vielfalt spiegelt. Künstlerische Beispiele (z.B. von
  Paolo Pellegrin, Peter Lindbergh, Ann Sophie Lindström, Mark Thümmler, 
 Chris Maker, Agnes Varda, Shelly Silver) werden einbezogen und fungieren a
 ls Inspiration. Durch die technisch verhältnismäßig einfache Umsetzung,
  eignet sich der Fotofilm nicht nur für die künstlerische Arbeit und die
  Umsetzung eigener biografischer oder privater Projekte, sondern auch für
  Vermittlungszusammenhänge in Bildungs- und Schulkontexten.Alle Teilnehme
 nden setzen im Kursverlauf einen eigenen kleinen Fotofilm um. Als Option b
 ietet die Werkstatt eine thematische Umsetzung zu dem Motto »Ein besonder
 er Ort« an.Es können zum Beispiel Filme entstehen, in denen es um Famili
 e geht, um Feste, das alte oder das neue Jahr, um das Dunkel, um Verdichtu
 ng oder Rituale. Ebenso sind Ideen für Fotofilme zu einem freien Thema wi
 llkommen.Das Seminar findet an vier Terminen (20.01./27.01./3.02./17.02.20
 25) jeweils von 16.30-20.00 Uhr statt. In der Zeit zwischen den Terminen, 
 arbeiten die Teilnehmende an ihren individuellen Fotofilm-Projekten, die i
 m Seminar rückgesprochen werden. Die hierfür benötigten Grundlagen im F
 ilm- und Tonschnitt werden vermittelt.Technische Voraussetzungen zur Teiln
 ahme:Die technischen Voraussetzungen zur Teilnahme sind ein stabiler Inter
 net-Zugang, ein PC oder Notebook mit Tastatur, Mikrofon, Kamera sowie Laut
 sprechern (oder Kopfhörer). Der Kurs wird über den Anbieter zoom.us ange
 boten. Zoom läuft browserbasiert bzw. mit einer kleinen Installation, die
  direkt im Anmeldeprozess ausgeführt wird. Den dafür notwendigen Link un
 d weitere Informationen dazu erhalten Sie nach der Einladung zum Kurs von 
 uns.Für die Gestaltung der Fotofilme benötigen Sie einen Rechner (ein Ta
 blet ist nicht ausreichend) – Mac oder PC. Ein iPad wird empfohlen. Die 
 Fotos können mit einer Digitalkamera oder einem Smartphone aufgenommen we
 rden. Technische Kenntnisse wie Sie mit dem Smartphone Tonaufnahmen (Sprac
 hmemos) machen (Standartanwendung) und diese Dateien auf den eigenen Rechn
 er transferieren können, werden vorausgesetzt. Die Bild- und Tonqualität
  eines durchschnittlichen Smartphones ist ausreichend.
LOCATION:Online-Workshop
DTSTART:20250120T153000Z
DTEND:20250217T190000Z
END:VEVENT
END:VCALENDAR
