BEGIN:VCALENDAR
VERSION:2.0
PRODID:https://github.com/derhansen/sf_event_mgt
METHOD:PUBLISH
BEGIN:VEVENT
UID:1985-64@www.bundesakademie.de
CLASS: PUBLIC
SUMMARY:Wo will ich hin?
DESCRIPTION:Der Kompakt-Workshop bietet einen strukturierten Rahmen, um das
  letzte Jahr zu reflektieren und 2026 strategisch zu planen. Der erste Sch
 ritt ist ein ehrlicher Rückblick: Was hat im vergangenen Jahr funktionier
 t? Welche Muster zeigen sich in der eigenen Arbeitsweise? Welche Projekte 
 haben Energie gegeben und welche haben sie eher geraubt?Darauf aufbauend s
 chauen wir gemeinsam, wo wir Schwerpunkte setzen und welche Ziele wir  err
 eichen wollen. Was ist in der künstlerischen Praxis wirklich wichtig? Wo 
 soll die Reise bis Ende 2026 hingehen? Wir schauen von den Zielen zu den n
 otwendigen Schritten, mit dem Gedanken, dass sich Pläne auch ändern dür
 fen.Ein wesentlicher Teil ist der Ressourcen-Check: Zeit, Geld, Energie, K
 ontakte – welche Ressourcen sind vorhanden, welche fehlen, und wie lasse
 n sich Lücken schließen? Dabei geht es auch um strategischen Netzwerkauf
 bau: Welche Verbindungen sind uns wichtig für die geplanten Projekte? Wie
  lassen sich Kontakte gezielt pflegen und erweitern, ohne sich zu verbiege
 n?Am Ende steht ein persönlicher Jahresplan mit den ersten konkreten Schr
 itten für 2027. Keine Theorie, sondern praktische Werkzeuge, die sich an 
 die individuelle künstlerische Praxis anpassen lassen.Technische Vorausse
 tzungen zur Teilnahme:Die technischen Voraussetzungen zur Teilnahme sind e
 in stabiler Internet-Zugang, ein PC oder Notebook mit Tastatur, Mikrofon, 
 Kamera sowie Lautsprechern (oder Kopfhörer). Der Kurs wird über den Anbi
 eter zoom.us angeboten. Zoom läuft browserbasiert bzw. mit einer kleinen 
 Installation, die direkt im Anmeldeprozess ausgeführt wird. Den dafür no
 twendigen Link und weitere Informationen dazu erhalten Sie mit der Einladu
 ng zum Kurs von uns.
LOCATION:Online-Workshop
DTSTART:20261203T090000Z
DTEND:20261203T130000Z
END:VEVENT
END:VCALENDAR
